BEGIN:VCALENDAR
VERSION:2.0
PRODID:-//RGVBSTC - ECPv5.1.6//NONSGML v1.0//EN
CALSCALE:GREGORIAN
METHOD:PUBLISH
X-WR-CALNAME:RGVBSTC
X-ORIGINAL-URL:http://rgvbstc.com
X-WR-CALDESC:Events for RGVBSTC
BEGIN:VTIMEZONE
TZID:America/Chicago
BEGIN:DAYLIGHT
TZOFFSETFROM:-0600
TZOFFSETTO:-0500
TZNAME:CDT
DTSTART:20210314T080000
END:DAYLIGHT
BEGIN:STANDARD
TZOFFSETFROM:-0500
TZOFFSETTO:-0600
TZNAME:CST
DTSTART:20211107T070000
END:STANDARD
END:VTIMEZONE
BEGIN:VEVENT
DTSTART;TZID=America/Chicago:20210608T080000
DTEND;TZID=America/Chicago:20210608T120000
DTSTAMP:20260423T211630
CREATED:20210401T184701Z
LAST-MODIFIED:20210401T184701Z
UID:2204-1623139200-1623153600@rgvbstc.com
SUMMARY:State & Federal Law Updates #3186
DESCRIPTION:Location: Conference Room\nCourse#: 3186 \n4 hr TCOLE Credit \nTo register please email a completed registration form\, —> Admission Standard Form <— \, to hpdtrainingcenter@gmail.com.  We will confirm your registration within 3 business days.  Form may also be hand delivered. \nIf any additional instructions or materials are required for a course\, they will be provided in confirmation email.
URL:http://rgvbstc.com/event/state-federal-law-updates-3186-5/
LOCATION:Rio Grande Valley Border Security And Technology Training Center\, 900 S Bridge St\, Hidalgo\, TX\, 78557\, United States
ORGANIZER;CN="Sgt%20Albert%20Cruz":MAILTO:hpdtrainingcenter@gmail.com
END:VEVENT
END:VCALENDAR