BEGIN:VCALENDAR
VERSION:2.0
PRODID:-//RGVBSTC - ECPv5.1.6//NONSGML v1.0//EN
CALSCALE:GREGORIAN
METHOD:PUBLISH
X-WR-CALNAME:RGVBSTC
X-ORIGINAL-URL:http://rgvbstc.com
X-WR-CALDESC:Events for RGVBSTC
BEGIN:VTIMEZONE
TZID:America/Chicago
BEGIN:DAYLIGHT
TZOFFSETFROM:-0600
TZOFFSETTO:-0500
TZNAME:CDT
DTSTART:20140309T080000
END:DAYLIGHT
BEGIN:STANDARD
TZOFFSETFROM:-0500
TZOFFSETTO:-0600
TZNAME:CST
DTSTART:20141102T070000
END:STANDARD
END:VTIMEZONE
BEGIN:VEVENT
DTSTART;TZID=America/Chicago:20140617T080000
DTEND;TZID=America/Chicago:20140618T170000
DTSTAMP:20260424T091517
CREATED:20140521T192857Z
LAST-MODIFIED:20140521T192857Z
UID:900-1402992000-1403110800@rgvbstc.com
SUMMARY:Serving Survivors of Homicide Victims
DESCRIPTION:Rio Grande Valley Empowerment Zone “Victims of Crime/ Prevention & Restoration Program”\n                                And\nThe Office of Justice Programs “Office of Victims of Crime TTAC”\nWill be hosting “FREE” 2-day training\n“Serving Survivors of Homicide Victims” \nAgenda
URL:http://rgvbstc.com/event/serving-survivors-of-homicide-victims/
END:VEVENT
END:VCALENDAR