BEGIN:VCALENDAR
VERSION:2.0
PRODID:-//RGVBSTC - ECPv5.1.6//NONSGML v1.0//EN
CALSCALE:GREGORIAN
METHOD:PUBLISH
X-WR-CALNAME:RGVBSTC
X-ORIGINAL-URL:http://rgvbstc.com
X-WR-CALDESC:Events for RGVBSTC
BEGIN:VTIMEZONE
TZID:America/Chicago
BEGIN:DAYLIGHT
TZOFFSETFROM:-0600
TZOFFSETTO:-0500
TZNAME:CDT
DTSTART:20140309T080000
END:DAYLIGHT
BEGIN:STANDARD
TZOFFSETFROM:-0500
TZOFFSETTO:-0600
TZNAME:CST
DTSTART:20141102T070000
END:STANDARD
END:VTIMEZONE
BEGIN:VEVENT
DTSTART;TZID=America/Chicago:20140708T090000
DTEND;TZID=America/Chicago:20140711T160000
DTSTAMP:20260422T055428
CREATED:20140702T211808Z
LAST-MODIFIED:20140702T211808Z
UID:916-1404810000-1405094400@rgvbstc.com
SUMMARY:ICS Training
DESCRIPTION:Hosted by Hidalgo Fire Dept.
URL:http://rgvbstc.com/event/ics-training/
END:VEVENT
END:VCALENDAR