BEGIN:VCALENDAR
VERSION:2.0
PRODID:-//RGVBSTC - ECPv5.1.6//NONSGML v1.0//EN
CALSCALE:GREGORIAN
METHOD:PUBLISH
X-WR-CALNAME:RGVBSTC
X-ORIGINAL-URL:http://rgvbstc.com
X-WR-CALDESC:Events for RGVBSTC
BEGIN:VTIMEZONE
TZID:America/Chicago
BEGIN:DAYLIGHT
TZOFFSETFROM:-0600
TZOFFSETTO:-0500
TZNAME:CDT
DTSTART:20140309T080000
END:DAYLIGHT
BEGIN:STANDARD
TZOFFSETFROM:-0500
TZOFFSETTO:-0600
TZNAME:CST
DTSTART:20141102T070000
END:STANDARD
END:VTIMEZONE
BEGIN:VEVENT
DTSTART;TZID=America/Chicago:20140925T080000
DTEND;TZID=America/Chicago:20140925T120000
DTSTAMP:20260421T204234
CREATED:20140924T164809Z
LAST-MODIFIED:20140924T170041Z
UID:966-1411632000-1411646400@rgvbstc.com
SUMMARY:HPD Patrol Weapon Transition
DESCRIPTION:**conference room** Department Only
URL:http://rgvbstc.com/event/hpd-patrol-weapon-transition/
END:VEVENT
END:VCALENDAR