BEGIN:VCALENDAR
VERSION:2.0
PRODID:-//RGVBSTC - ECPv5.1.6//NONSGML v1.0//EN
CALSCALE:GREGORIAN
METHOD:PUBLISH
X-WR-CALNAME:RGVBSTC
X-ORIGINAL-URL:http://rgvbstc.com
X-WR-CALDESC:Events for RGVBSTC
BEGIN:VTIMEZONE
TZID:America/Chicago
BEGIN:DAYLIGHT
TZOFFSETFROM:-0600
TZOFFSETTO:-0500
TZNAME:CDT
DTSTART:20140309T080000
END:DAYLIGHT
BEGIN:STANDARD
TZOFFSETFROM:-0500
TZOFFSETTO:-0600
TZNAME:CST
DTSTART:20141102T070000
END:STANDARD
END:VTIMEZONE
BEGIN:VEVENT
DTSTART;TZID=America/Chicago:20140518T080000
DTEND;TZID=America/Chicago:20140518T170000
DTSTAMP:20260424T142927
CREATED:20140506T172118Z
LAST-MODIFIED:20140506T172118Z
UID:893-1400400000-1400432400@rgvbstc.com
SUMMARY:CPR First Aid Course
DESCRIPTION:
URL:http://rgvbstc.com/event/cpr-first-aid-course/
END:VEVENT
END:VCALENDAR