BEGIN:VCALENDAR
VERSION:2.0
PRODID:-//RGVBSTC - ECPv5.1.6//NONSGML v1.0//EN
CALSCALE:GREGORIAN
METHOD:PUBLISH
X-WR-CALNAME:RGVBSTC
X-ORIGINAL-URL:http://rgvbstc.com
X-WR-CALDESC:Events for RGVBSTC
BEGIN:VTIMEZONE
TZID:America/Chicago
BEGIN:DAYLIGHT
TZOFFSETFROM:-0600
TZOFFSETTO:-0500
TZNAME:CDT
DTSTART:20230312T080000
END:DAYLIGHT
BEGIN:STANDARD
TZOFFSETFROM:-0500
TZOFFSETTO:-0600
TZNAME:CST
DTSTART:20231105T070000
END:STANDARD
END:VTIMEZONE
BEGIN:VEVENT
DTSTART;TZID=America/Chicago:20230216T090000
DTEND;TZID=America/Chicago:20230216T110000
DTSTAMP:20260423T060245
CREATED:20230306T195944Z
LAST-MODIFIED:20230306T204640Z
UID:2245-1676538000-1676545200@rgvbstc.com
SUMMARY:Civil Law & Practices #3103 (FREE)
DESCRIPTION:Location: Conference Room\nCourse#: 3103 \n2 hr TCOLE Credit \nTo register please email a completed registration form\, —> Admission Standard Form <— \, to hpdtrainingcenter@gmail.com.  We will confirm your registration within 3 business days.  Form may also be hand delivered. \nIf any additional instructions or materials are required for a course\, they will be provided in confirmation email.
URL:http://rgvbstc.com/event/civil-law-practices-3103/
LOCATION:Rio Grande Valley Border Security And Technology Training Center\, 900 S Bridge St\, Hidalgo\, TX\, 78557\, United States
END:VEVENT
END:VCALENDAR